BEGIN:VCALENDAR
VERSION:2.0
PRODID:-//Healthcare Leaders of New York - ECPv6.15.20//NONSGML v1.0//EN
CALSCALE:GREGORIAN
METHOD:PUBLISH
X-WR-CALNAME:Healthcare Leaders of New York
X-ORIGINAL-URL:https://hlny.org
X-WR-CALDESC:Events for Healthcare Leaders of New York
REFRESH-INTERVAL;VALUE=DURATION:PT1H
X-Robots-Tag:noindex
X-PUBLISHED-TTL:PT1H
BEGIN:VTIMEZONE
TZID:America/New_York
BEGIN:DAYLIGHT
TZOFFSETFROM:-0500
TZOFFSETTO:-0400
TZNAME:EDT
DTSTART:20240310T070000
END:DAYLIGHT
BEGIN:STANDARD
TZOFFSETFROM:-0400
TZOFFSETTO:-0500
TZNAME:EST
DTSTART:20241103T060000
END:STANDARD
BEGIN:DAYLIGHT
TZOFFSETFROM:-0500
TZOFFSETTO:-0400
TZNAME:EDT
DTSTART:20250309T070000
END:DAYLIGHT
BEGIN:STANDARD
TZOFFSETFROM:-0400
TZOFFSETTO:-0500
TZNAME:EST
DTSTART:20251102T060000
END:STANDARD
BEGIN:DAYLIGHT
TZOFFSETFROM:-0500
TZOFFSETTO:-0400
TZNAME:EDT
DTSTART:20260308T070000
END:DAYLIGHT
BEGIN:STANDARD
TZOFFSETFROM:-0400
TZOFFSETTO:-0500
TZNAME:EST
DTSTART:20261101T060000
END:STANDARD
END:VTIMEZONE
BEGIN:VTIMEZONE
TZID:UTC
BEGIN:STANDARD
TZOFFSETFROM:+0000
TZOFFSETTO:+0000
TZNAME:UTC
DTSTART:20240101T000000
END:STANDARD
END:VTIMEZONE
BEGIN:VEVENT
DTSTART;TZID=America/New_York:20251120T180000
DTEND;TZID=America/New_York:20251120T210000
DTSTAMP:20260425T201248
CREATED:20250923T163225Z
LAST-MODIFIED:20250923T163337Z
UID:13309-1763661600-1763672400@hlny.org
SUMMARY:Frank Camerano Memorial Dinner and Lecture
DESCRIPTION:SAVE THE DATE for our annual Frank Camerano Memorial Dinner and Lecture.  This year’s topic will be “Positioned to Lead: Strategic Career Planning for Healthcare Professionals”.  Hosted by Fred Sganga\, Executive Director of the Long Island State Veteran’s Home panelists include: \n\nZachary Almer\, Director of Strategic Project Management\, LiveOnNY\nAlisha Adams-Davidow\, Clinical Operations Manager\, NYC H+H Elmhurst Hospital\nA’Neil Rodney\, Administrator in Training\, Veterans Victory House\n\nBe sure to keep an eye on your inbox for registration details coming soon!
URL:https://hlny.org/calendar/frank-camerano-memorial-dinner-and-lecture/
END:VEVENT
BEGIN:VEVENT
DTSTART;VALUE=DATE:20251022
DTEND;VALUE=DATE:20251023
DTSTAMP:20260425T201248
CREATED:20250331T165410Z
LAST-MODIFIED:20250421T151827Z
UID:12492-1761091200-1761177599@hlny.org
SUMMARY:HLNY's 9th Annual Mini Congress
DESCRIPTION:Join HLNY for our 9th annual Mini-Congress this year with a theme of Back to the Basics: Adding Value at Every Step with three exciting panel discussions in a one day.
URL:https://hlny.org/calendar/mini-congress/
LOCATION:New York Academy of Medicine\, 1216 5th Avenue\, New York\, NY\, 10029\, United States
CATEGORIES:Programs
ATTACH;FMTTYPE=image/jpeg:https://hlny.org/wp-content/uploads/2025/03/Mini-Congress-Cover-Photo.jpg
END:VEVENT
BEGIN:VEVENT
DTSTART;TZID=America/New_York:20251020T180000
DTEND;TZID=America/New_York:20251020T193000
DTSTAMP:20260425T201248
CREATED:20250820T164440Z
LAST-MODIFIED:20250820T164557Z
UID:13262-1760983200-1760988600@hlny.org
SUMMARY:Global Health Leadership: Improving the Health of Global Communities
DESCRIPTION:SAVE THE DATE! REGISTRATION DETAILS TO BE ANNOUNCED!\nCrossing Borders Series: Competing Globally & Learning Internationally \nA Three-Part Virtual Interactive Education Series \nPart 3 – Global Health Leadership: Improving the Health of Global Communities \nFocus: Leadership strategies from the International Hospital Federation on advancing equity\, improving population health\, and strengthening community resilience worldwide.
URL:https://hlny.org/calendar/global-health-leadership-improving-the-health-of-global-communities/
LOCATION:Virtual
CATEGORIES:Programs
ATTACH;FMTTYPE=image/webp:https://hlny.org/wp-content/uploads/2025/08/global-health-image.webp
END:VEVENT
BEGIN:VEVENT
DTSTART;TZID=America/New_York:20251013T180000
DTEND;TZID=America/New_York:20251013T193000
DTSTAMP:20260425T201248
CREATED:20250820T164300Z
LAST-MODIFIED:20250820T164300Z
UID:13260-1760378400-1760383800@hlny.org
SUMMARY:Beyond Borders: The Impact of Medical Tourism on U.S. Healthcare Strategy
DESCRIPTION:SAVE THE DATE! REGISTRATION DETAILS TO BE ANNOUNCED!\nCrossing Borders Series: Competing Globally & Learning Internationally \nA Three-Part Virtual Interactive Education Series \nPart 2 – Beyond Borders: The Impact of Medical Tourism on U.S. Healthcare Strategy \nFocus: The opportunities and risks of medical tourism for U.S. providers\, including patient flows\, branding\, and strategic positioning in a competitive global market.
URL:https://hlny.org/calendar/beyond-borders-the-impact-of-medical-tourism-on-u-s-healthcare-strategy/
LOCATION:Virtual
CATEGORIES:Programs
ATTACH;FMTTYPE=image/jpeg:https://hlny.org/wp-content/uploads/2025/08/Global-health-stock-photo.jpeg
END:VEVENT
BEGIN:VEVENT
DTSTART;TZID=America/New_York:20251006T180000
DTEND;TZID=America/New_York:20251006T193000
DTSTAMP:20260425T201248
CREATED:20250820T164120Z
LAST-MODIFIED:20250820T164120Z
UID:13258-1759773600-1759779000@hlny.org
SUMMARY:Global Frontiers: Harnessing International Insights to Transform U.S. Healthcare
DESCRIPTION:SAVE THE DATE! REGISTRATION DETAILS TO BE ANNOUNCED!\nCrossing Borders Series: Competing Globally & Learning Internationally \nA Three-Part Virtual Interactive Education Series \nPart 1 – Global Frontiers: Harnessing International Insights to Transform U.S. Healthcare \nFocus: How global trends and partnerships are reshaping U.S. health systems\, with lessons from international models of care and workforce innovation.
URL:https://hlny.org/calendar/global-frontiers-harnessing-international-insights-to-transform-u-s-healthcare/
LOCATION:Virtual
CATEGORIES:Programs
ATTACH;FMTTYPE=image/webp:https://hlny.org/wp-content/uploads/2025/08/Global-health-save-the-date.webp
END:VEVENT
BEGIN:VEVENT
DTSTART;TZID=America/New_York:20250926T090000
DTEND;TZID=America/New_York:20250926T143000
DTSTAMP:20260425T201248
CREATED:20250820T162903Z
LAST-MODIFIED:20250820T162935Z
UID:13255-1758877200-1758897000@hlny.org
SUMMARY:Fall Virtual Summit Series: Transforming Care at Scale – Innovation\, Strategy\, and Employer Partnerships
DESCRIPTION:SAVE THE DATE! RESGISTRATION DETAILS TO BE ANNOUNCED!\n  \nSeries Agenda: \n\nPart 1: Listening to Employers: How Health Systems Can Support Population Health Management (9:00am to 10:30am)\nPart 2: Population Health Management – Access\, Outcomes\, and Financial Implications (11:00am to 12:30pm)\nPart 3: Innovation and the Changing Face of Healthcare Delivery (1:00pm to 2:30pm)
URL:https://hlny.org/calendar/fall-virtual-summit-series-transforming-care-at-scale-innovation-strategy-and-employer-partnerships/
LOCATION:Virtual
CATEGORIES:Programs
ATTACH;FMTTYPE=image/jpeg:https://hlny.org/wp-content/uploads/2025/08/Tech-innovation-blog.jpg
END:VEVENT
BEGIN:VEVENT
DTSTART;TZID=America/New_York:20250916T180000
DTEND;TZID=America/New_York:20250916T210000
DTSTAMP:20260425T201248
CREATED:20250828T140804Z
LAST-MODIFIED:20250828T140804Z
UID:13272-1758045600-1758056400@hlny.org
SUMMARY:HLNY Long Island Membership Regional Mixer
DESCRIPTION:A regional mixer for HLNY members & non-members to connect!
URL:https://hlny.org/calendar/hlny-long-island-membership-regional-mixer/
LOCATION:Park Place\, 1218 Jericho Turnpike\, New Hyde Park\, NY\, 11040\, United States
CATEGORIES:Mixers
ATTACH;FMTTYPE=image/jpeg:https://hlny.org/wp-content/uploads/2024/08/Sept-HLNY-Regional-Mixer.jpg
END:VEVENT
BEGIN:VEVENT
DTSTART;TZID=America/New_York:20250814T180000
DTEND;TZID=America/New_York:20250814T210000
DTSTAMP:20260425T201248
CREATED:20250701T012145Z
LAST-MODIFIED:20250701T012145Z
UID:12887-1755194400-1755205200@hlny.org
SUMMARY:5th Annual Better Together Event: Celebrating Diversity\, Equity & Inclusion
DESCRIPTION:Register now for HLNY’s 5th Annual Better Together: Celebrating Diversity\, Equity & Inclusion
URL:https://hlny.org/calendar/5th-annual-better-together-event-celebrating-diversity-equity-inclusion/
LOCATION:grand central\, 335 Madison Avenue\, New York\, NY\, 10017\, United States
CATEGORIES:Programs
ATTACH;FMTTYPE=image/jpeg:https://hlny.org/wp-content/uploads/2023/06/Better-Together.jpg
END:VEVENT
BEGIN:VEVENT
DTSTART;TZID=America/New_York:20250722T180000
DTEND;TZID=America/New_York:20250722T210000
DTSTAMP:20260425T201248
CREATED:20250421T120009Z
LAST-MODIFIED:20250421T135212Z
UID:11853-1753207200-1753218000@hlny.org
SUMMARY:Honoring Our History – HLNY’s 13th Annual Past President’s Boat Cruise
DESCRIPTION:
URL:https://hlny.org/calendar/honoring-our-history-hlnys-13th-annual-past-presidents-boat-cruise/
LOCATION:Chelsea Piers\, Pier 61\, New York\, NY\, 10001\, United States
CATEGORIES:Programs
ATTACH;FMTTYPE=image/jpeg:https://hlny.org/wp-content/uploads/2025/01/Boat-Cruise-1.jpg
END:VEVENT
BEGIN:VEVENT
DTSTART;TZID=America/New_York:20250710T183000
DTEND;TZID=America/New_York:20250710T193000
DTSTAMP:20260425T201248
CREATED:20250530T040506Z
LAST-MODIFIED:20250530T040506Z
UID:12636-1752172200-1752175800@hlny.org
SUMMARY:Lessons Learned in Supporting Healthcare Worker Mental Health and Resilience
DESCRIPTION:Register here: https://us06web.zoom.us/webinar/register/WN_AcDlByzwTF2iDupOZoys5w#/registration
URL:https://hlny.org/calendar/lessons-learned-in-supporting-healthcare-worker-mental-health-and-resilience/
LOCATION:Virtual
CATEGORIES:Programs
ATTACH;FMTTYPE=image/jpeg:https://hlny.org/wp-content/uploads/2025/05/Lessons-Learned-in-Supporting-Mental-Health-Info-Slide.jpg
END:VEVENT
BEGIN:VEVENT
DTSTART;TZID=America/New_York:20250708T190000
DTEND;TZID=America/New_York:20250708T213000
DTSTAMP:20260425T201248
CREATED:20250620T171946Z
LAST-MODIFIED:20250620T171946Z
UID:12706-1752001200-1752010200@hlny.org
SUMMARY:HLNY Membership Regional Mixer in the Bronx
DESCRIPTION:Batter up\, Bronx! Get ready to step up to the plate for a one-of-a-kind evening of networking and baseball at our HLNY Membership Regional Mixer in the Bronx! \nJoin Healthcare Leaders of New York (HLNY) on Tuesday\, July 8 at 7:05 PM as the New York Yankees take on the Seattle Mariners at Yankee Stadium—and we take networking out to the ballgame! \nWe’ve reserved 200-level seating near the Stella Artois Landing\, perfect for a prime view and space to mix\, mingle\, and make new connections—whether you’re swinging by with colleagues\, family\, or friends. \nTickets are $40 (plus fees) and open to members\, non-members\, and guests. All are welcome—because building community shouldn’t be a hard pitch. \nDon’t strike out on this chance to connect with healthcare pros from across the region in one of NYC’s most iconic venues!
URL:https://hlny.org/calendar/hlny-membership-regional-mixer-in-the-bronx/
LOCATION:Yankee Stadium\, 1 East 161st Street\, Bronx\, New York\, 10451\, United States
ATTACH;FMTTYPE=image/jpeg:https://hlny.org/wp-content/uploads/2025/06/Yankees-July-2025-Mixer.jpg
END:VEVENT
BEGIN:VEVENT
DTSTART;TZID=America/New_York:20250624T180000
DTEND;TZID=America/New_York:20250624T193000
DTSTAMP:20260425T201248
CREATED:20250530T023200Z
LAST-MODIFIED:20250530T023200Z
UID:12619-1750788000-1750793400@hlny.org
SUMMARY:Navigating the Transition from Fellowship to Early Career Success
DESCRIPTION:https://us06web.zoom.us/webinar/register/WN_WKPOk4jTSAWTxop2A_6Kyg#/registration
URL:https://hlny.org/calendar/navigating-the-transition-from-fellowship-to-early-career-success/
LOCATION:Virtual
CATEGORIES:Programs
ATTACH;FMTTYPE=image/jpeg:https://hlny.org/wp-content/uploads/2025/05/Navigating-the-Transition-from-Fellowship-to-Early-Career-Success-5.21.25.jpg
END:VEVENT
BEGIN:VEVENT
DTSTART;TZID=America/New_York:20250618T173000
DTEND;TZID=America/New_York:20250618T183000
DTSTAMP:20260425T201248
CREATED:20250520T202748Z
LAST-MODIFIED:20250520T202806Z
UID:12602-1750267800-1750271400@hlny.org
SUMMARY:The Way Up: Real Talk on Leadership and Identity
DESCRIPTION:https://us06web.zoom.us/webinar/register/WN_ZpbemxmRThaVBn6vxNEnDQ#/registration
URL:https://hlny.org/calendar/12602/
LOCATION:Virtual
CATEGORIES:Programs
ATTACH;FMTTYPE=image/jpeg:https://hlny.org/wp-content/uploads/2025/05/Fireside-Chat-Flyer-E.Pierre-6-2025.jpg
END:VEVENT
BEGIN:VEVENT
DTSTART;TZID=America/New_York:20250612T123000
DTEND;TZID=America/New_York:20250612T133000
DTSTAMP:20260425T201248
CREATED:20250422T032039Z
LAST-MODIFIED:20250530T035821Z
UID:12545-1749731400-1749735000@hlny.org
SUMMARY:From Clinician to C-Suite Executive: Steps and Strategies
DESCRIPTION:Register here: https://us06web.zoom.us/webinar/register/WN_Rl-qIfgdSA2BVYGBwPZAWA#/registration
URL:https://hlny.org/calendar/from-clinician-to-c-suite-executive-steps-and-strategies/
LOCATION:Virtual
CATEGORIES:Programs
ATTACH;FMTTYPE=image/jpeg:https://hlny.org/wp-content/uploads/2025/05/From-Clinician-to-C-Suite-Executive-Steps-and-Strategies-Info-Slide.jpg
END:VEVENT
BEGIN:VEVENT
DTSTART;TZID=America/New_York:20250603T164500
DTEND;TZID=America/New_York:20250603T200000
DTSTAMP:20260425T201248
CREATED:20250527T174803Z
LAST-MODIFIED:20250530T015911Z
UID:12606-1748969100-1748980800@hlny.org
SUMMARY:Winning on Total Cost of Care to Achieve VBP Success
DESCRIPTION:https://www.eventbrite.com/e/winning-on-total-cost-of-care-to-achieve-vbp-success-registration-1337292831859?aff=oddtdtcreator
URL:https://hlny.org/calendar/winning-on-total-cost-of-care-to-achieve-vbp-success/
LOCATION:Salesforce Tower\, 1095 6th Avenue\, New York\, NY\, 10036\, United States
CATEGORIES:Programs
ATTACH;FMTTYPE=image/jpeg:https://hlny.org/wp-content/uploads/2025/05/6.3.25-Speaker-Card-Moderator.jpg
END:VEVENT
BEGIN:VEVENT
DTSTART;TZID=America/New_York:20250602T180000
DTEND;TZID=America/New_York:20250602T210000
DTSTAMP:20260425T201248
CREATED:20250104T062508Z
LAST-MODIFIED:20250211T042641Z
UID:11849-1748887200-1748898000@hlny.org
SUMMARY:2025 HLNY Annual Gala and Awards Presentation
DESCRIPTION:
URL:https://hlny.org/calendar/2025-hlny-annual-gala-and-awards-presentation/
LOCATION:Glen Island Harbour Club\, 299 Weyman Avenue\, New Rochelle\, NY\, 10805\, United States
CATEGORIES:Gala
ATTACH;FMTTYPE=image/jpeg:https://hlny.org/wp-content/uploads/2025/01/Glen-Island-Harbour-Country-Club-1-300x200-2.jpg
END:VEVENT
BEGIN:VEVENT
DTSTART;TZID=America/New_York:20250522T180000
DTEND;TZID=America/New_York:20250522T210000
DTSTAMP:20260425T201248
CREATED:20250422T231640Z
LAST-MODIFIED:20250423T004006Z
UID:12554-1747936800-1747947600@hlny.org
SUMMARY:HLNY Brooklyn Membership Regional Mixer
DESCRIPTION:Our next Healthcare Leaders of New York Membership Regional Mixer is taking place in Brooklyn! In honor of ‘Mental Health Awareness Month’ our event is being sponsored by Talkiatry\, a psychiatry practice and leading organization in insurance covered mental health services specializing in telemedicine. May’s mixer will provide the friendly & casual networking opportunity we aim for with our Membership Regional Mixers\, but with Talkiatry\, we’re upping the fun! \nJoin us on Thursday\, May 22nd from 6:00-9:00pm for an epic evening at Royal Palms Shuffleboard Club! We will be hosting a Talkiatry Tourney\, a randomized team shuffleboard tournament! Everyone is welcome to participate in some friendly competition\, or watch the excitement from our private cabanas. Additionally\, we will be offering not just one drink voucher\, but an unlimited drink package of beer\, wine\, and non-alcoholic drinks! \nPlease register in advance and secure your ticket\, as capacity is limited and sure to sell out fast! Non-member tickets are available\, so please invite your friends & colleagues.
URL:https://hlny.org/calendar/hlny-brooklyn-membership-regional-mixer/
LOCATION:Royal Palms Shuffleboard Club\, 514 Union St\, Brooklyn\, NY\, 11215\, United States
CATEGORIES:Mixers
ATTACH;FMTTYPE=image/jpeg:https://hlny.org/wp-content/uploads/2024/08/Talkiatry-May-2025-Mixer.jpg
END:VEVENT
BEGIN:VEVENT
DTSTART;TZID=America/New_York:20250520T180000
DTEND;TZID=America/New_York:20250520T193000
DTSTAMP:20260425T201248
CREATED:20250430T150614Z
LAST-MODIFIED:20250520T202904Z
UID:12577-1747764000-1747769400@hlny.org
SUMMARY:Navigating Your Finances: A Roadmap for Students (Session 2)
DESCRIPTION:Join us for Session 12 of a valuable two-part virtual event\, “Navigating Your Finances: A Roadmap for Students\,” proudly hosted by the Higher Education Network of HLNY. Led by Lancelot Cameron\, a financial services expert from NYLIFE Securities\, this series is designed to empower students and early careerists with crucial financial knowledge. \nWhether you’re starting your career or further into your educational journey\, these workshops can drastically improve your financial literacy and set you up for success. \nRegister to join us: \nMay 20th – Session 2: https://us06web.zoom.us/webinar/register/WN_A6Byw9E2Sqqgjf2I_iEapQ \nDon’t miss out on this opportunity! Secure your spot today and pave the way for your financial future!
URL:https://hlny.org/calendar/navigating-your-finances-a-roadmap-for-students-session-2/
CATEGORIES:Programs
ATTACH;FMTTYPE=image/jpeg:https://hlny.org/wp-content/uploads/2025/01/Financial-Success-HEN-Event-Flyer.pdf-2.jpg
END:VEVENT
BEGIN:VEVENT
DTSTART;TZID=America/New_York:20250507T190000
DTEND;TZID=America/New_York:20250507T200000
DTSTAMP:20260425T201248
CREATED:20250421T152230Z
LAST-MODIFIED:20250422T032126Z
UID:12543-1746644400-1746648000@hlny.org
SUMMARY:FACHE Advancement Town Hall
DESCRIPTION:This complimentary resource offers a comprehensive overview of the FACHE credentialing process. It walks you through the eligibility requirements and helps you determine which criteria you’ve already met. You will gain a clear understanding of the full application process\, including the materials needed\, and guidance on whether now is the right time to pursue the FACHE credential. Additionally\, it sets expectations for the Board of Governors Exam from understanding the exam content to preparing effectively for success.
URL:https://hlny.org/calendar/fache-advancement-town-hall/
LOCATION:Virtual
CATEGORIES:Town Hall
ATTACH;FMTTYPE=image/jpeg:https://hlny.org/wp-content/uploads/2025/01/HLNY_FACHE_TownHall_20250416-1.jpg
END:VEVENT
BEGIN:VEVENT
DTSTART;TZID=America/New_York:20250506T180000
DTEND;TZID=America/New_York:20250506T193000
DTSTAMP:20260425T201248
CREATED:20250430T150203Z
LAST-MODIFIED:20250430T150203Z
UID:12575-1746554400-1746559800@hlny.org
SUMMARY:Navigating Your Finances: A Roadmap for Students (Session 1)
DESCRIPTION:Join us for Session 1 of a valuable two-part virtual event\, “Navigating Your Finances: A Roadmap for Students\,” proudly hosted by the Higher Education Network of HLNY. Led by Lancelot Cameron\, a financial services expert from NYLIFE Securities\, this series is designed to empower students and early careerists with crucial financial knowledge. \nWhether you’re starting your career or further into your educational journey\, these workshops can drastically improve your financial literacy and set you up for success. \nRegister to join us: \nMay 6th – Session 1: https://us06web.zoom.us/webinar/register/WN_A6Byw9E2Sqqgjf2I_iEapQ \nDon’t miss out on this opportunity! Secure your spot today and pave the way for your financial future!
URL:https://hlny.org/calendar/navigating-your-finances-a-roadmap-for-students-session-1/
LOCATION:Virtual
CATEGORIES:Programs
END:VEVENT
BEGIN:VEVENT
DTSTART;TZID=America/New_York:20250429T180000
DTEND;TZID=America/New_York:20250429T210000
DTSTAMP:20260425T201248
CREATED:20250217T034634Z
LAST-MODIFIED:20250331T165702Z
UID:12007-1745949600-1745960400@hlny.org
SUMMARY:The Interwined Path: Quality and Patient Experience
DESCRIPTION:
URL:https://hlny.org/calendar/operationalizing-health-equity-in-healthcare-organizations/
LOCATION:Stony Brook University Hospital\, 101 Nicolls Rd\, Stony Brook\, NY\, 11794\, United States
CATEGORIES:Programs
ATTACH;FMTTYPE=image/jpeg:https://hlny.org/wp-content/uploads/2025/03/Quality-PX-at-SBU-Panel-Info-.jpg
END:VEVENT
BEGIN:VEVENT
DTSTART;TZID=America/New_York:20250325T180000
DTEND;TZID=America/New_York:20250325T200000
DTSTAMP:20260425T201248
CREATED:20250204T200053Z
LAST-MODIFIED:20250227T045639Z
UID:11983-1742925600-1742932800@hlny.org
SUMMARY:SOLD OUT! Joint Reception (PA/NJ/NY) at 2025 ACHE Congress on Healthcare Leadership
DESCRIPTION:Register Today: https://www.eventbrite.com/e/joint-reception-panjny-at-2025-ache-congress-on-healthcare-leadership-tickets-1205978667659?aff=oddtdtcreator
URL:https://hlny.org/calendar/joint-reception-pa-nj-ny-at-2025-ache-congress-on-healthcare-leadership/
LOCATION:The Rustic\, 1836 Polk Street\, Houston\, TX\, 77003\, United States
CATEGORIES:Programs
ATTACH;FMTTYPE=image/jpeg:https://hlny.org/wp-content/uploads/2025/02/Save-The-Date-_ACHEreception2025-PA-NJ-NY-Joint-Congress-Reception.jpg
END:VEVENT
BEGIN:VEVENT
DTSTART;VALUE=DATE:20250324
DTEND;VALUE=DATE:20250328
DTSTAMP:20260425T201248
CREATED:20250104T064712Z
LAST-MODIFIED:20250104T065018Z
UID:11857-1742774400-1743119999@hlny.org
SUMMARY:ACHE 2025 Congress on Healthcare Leadership
DESCRIPTION:
URL:https://hlny.org/calendar/ache-2025-congress-on-healthcare-leadership/
LOCATION:George R. Brown Convention Center\, 1001 Avenida de las Americas\, Houston\, TX\, 77010\, United States
ATTACH;FMTTYPE=image/jpeg:https://hlny.org/wp-content/uploads/2025/01/2025-ACHE-Congress.jpg
END:VEVENT
BEGIN:VEVENT
DTSTART;TZID=America/New_York:20250304T123000
DTEND;TZID=America/New_York:20250304T133000
DTSTAMP:20260425T201248
CREATED:20250227T045603Z
LAST-MODIFIED:20250227T045603Z
UID:12231-1741091400-1741095000@hlny.org
SUMMARY:The Value of Coaching
DESCRIPTION:Registration Link: https://us06web.zoom.us/webinar/register/WN_eZvH8_KeSJWPix3SQSn5Ig#/registration
URL:https://hlny.org/calendar/the-value-of-coaching/
LOCATION:Virtual
CATEGORIES:Programs
ATTACH;FMTTYPE=image/jpeg:https://hlny.org/wp-content/uploads/2025/01/The-Value-of-Coaching-Info-Slide-2-1.jpg
END:VEVENT
BEGIN:VEVENT
DTSTART;TZID=America/New_York:20250225T170000
DTEND;TZID=America/New_York:20250225T210000
DTSTAMP:20260425T201248
CREATED:20241231T072412Z
LAST-MODIFIED:20250127T151438Z
UID:11818-1740502800-1740517200@hlny.org
SUMMARY:18th Annual Cocktails with the Chiefs
DESCRIPTION:Registration Link: https://www.eventbrite.com/e/hlnys-2025-18th-annual-cocktails-with-the-chiefs-tickets-1223495460859?aff=oddtdtcreator
URL:https://hlny.org/calendar/cocktails-with-the-chiefs/
LOCATION:Bohemian National Hall\, 321 E 73rd St\, New York\, NY 10021\, Bohemian National Hall\, 321 E 73rd St\,\, New York\, NY\, 10021\, United States
CATEGORIES:Programs
ATTACH;FMTTYPE=image/jpeg:https://hlny.org/wp-content/uploads/2020/11/Slide1.jpg
END:VEVENT
BEGIN:VEVENT
DTSTART;TZID=America/New_York:20250220T123000
DTEND;TZID=America/New_York:20250220T133000
DTSTAMP:20260425T201248
CREATED:20250120T050404Z
LAST-MODIFIED:20250211T051734Z
UID:11912-1740054600-1740058200@hlny.org
SUMMARY:Making the Most of Mentors\, Allies\, and Sponsors
DESCRIPTION:Register here: https://us06web.zoom.us/webinar/register/WN_S8O6vhNUQbulcDxGKcI8rw#/registration
URL:https://hlny.org/calendar/making-the-most-of-mentors-allies-and-sponsors/
LOCATION:Virtual
CATEGORIES:Programs
ATTACH;FMTTYPE=image/jpeg:https://hlny.org/wp-content/uploads/2025/01/Orange-Yellow-Playful-Handwritten-DEI-Live-Stream-Panel-LinkedIn-Post-1.jpg
END:VEVENT
BEGIN:VEVENT
DTSTART;TZID=America/New_York:20250206T180000
DTEND;TZID=America/New_York:20250206T190000
DTSTAMP:20260425T201248
CREATED:20241231T072306Z
LAST-MODIFIED:20250127T160238Z
UID:11816-1738864800-1738868400@hlny.org
SUMMARY:Higher Education Network - Student Townhall
DESCRIPTION:Registration Link: https://us06web.zoom.us/webinar/register/WN_4nFp3wRrSSax_QJPELRcDg#/registration
URL:https://hlny.org/calendar/higher-education-network-student-town-hall/
LOCATION:Virtual
CATEGORIES:Town Hall
ATTACH;FMTTYPE=image/jpeg:https://hlny.org/wp-content/uploads/2025/01/HEN-Townhall-draft-flyer.jpg
END:VEVENT
BEGIN:VEVENT
DTSTART;TZID=America/New_York:20250204T180000
DTEND;TZID=America/New_York:20250204T210000
DTSTAMP:20260425T201248
CREATED:20241231T072055Z
LAST-MODIFIED:20250124T170958Z
UID:11813-1738692000-1738702800@hlny.org
SUMMARY:World Cancer Day Event
DESCRIPTION:Join us on World Cancer Day for an insightful discussion on the future of cancer care. This event will explore innovative approaches to building hospitals\, expanding service lines\, and designing healthcare systems equipped to address the evolving needs of cancer patients. Hear from industry leaders as they share strategies\, advancements\, and best practices shaping the next generation of cancer treatment and care delivery. Register by clicking HERE for the World Cancer Day Event.
URL:https://hlny.org/calendar/world-cancer-day-event/
LOCATION:Mortimer B. Zuckerman Research Center – Sloan Kettering Institute\, 417 E 68th St\, New York\, NY\, 10065\, United States
CATEGORIES:Programs
ATTACH;FMTTYPE=image/jpeg:https://hlny.org/wp-content/uploads/2025/01/Slide1.jpg
END:VEVENT
BEGIN:VEVENT
DTSTART;TZID=America/New_York:20250130T180000
DTEND;TZID=America/New_York:20250130T190000
DTSTAMP:20260425T201248
CREATED:20250120T054555Z
LAST-MODIFIED:20250120T054555Z
UID:11918-1738260000-1738263600@hlny.org
SUMMARY:Sponsorship Townhall
DESCRIPTION:
URL:https://hlny.org/calendar/sponsorship-townhall/
LOCATION:Virtual
CATEGORIES:Town Hall
ATTACH;FMTTYPE=image/jpeg:https://hlny.org/wp-content/uploads/2025/01/1.30.25-Sponsorship-Townhall.jpg
END:VEVENT
BEGIN:VEVENT
DTSTART;TZID=America/New_York:20250123T180000
DTEND;TZID=America/New_York:20250123T210000
DTSTAMP:20260425T201248
CREATED:20241231T071445Z
LAST-MODIFIED:20250109T234610Z
UID:11811-1737655200-1737666000@hlny.org
SUMMARY:Managing for Morale - Effective Management Techniques to Retain Your Staff
DESCRIPTION:Staff retention continues to be a top priority for most healthcare executives. This esteemed panel will explore strategies to effectively manage\, maintain\, and grow your workforce by leveraging tools\, maximizing institutional resources and external support\, and investing in your team to drive excellence. Learn how to build and sustain strong organizational cultures that prioritize morale and people\, ensuring long-term success. Don’t miss this insightful discussion designed to provide actionable takeaways for enhancing workforce development and organizational outcomes.
URL:https://hlny.org/calendar/managing-for-morale-effective-management-techniques-to-retain-your-staff/
LOCATION:Maimonides Medical Center\, 4802 10th Avenue\, Brooklyn\, NY\, 11210\, United States
CATEGORIES:Programs
ATTACH;FMTTYPE=image/jpeg:https://hlny.org/wp-content/uploads/2025/01/Managing-for-Morale-Panel-Info-1.jpg
END:VEVENT
END:VCALENDAR